BEGIN:VCALENDAR
VERSION:2.0
PRODID:SchoolNow
CALSCALE:GREGORIAN
BEGIN:VEVENT
UID:82058092-036a-11f1-9d09-0a58a9feac02
DTSTAMP:20260420T205037Z
SUMMARY:5th & 6th Grade Girls Basketball
LOCATION:HTRS - Main Gym
URL;VALUE=URI:http://htrstitans.fallhaven.org/high-school/calendar/8850396/
 5th-6th-grade-girls-basketball
DTSTART:20260310T230000Z
DTEND:20260311T003000Z
END:VEVENT
END:VCALENDAR
