BEGIN:VCALENDAR
VERSION:2.0
PRODID:SchoolNow
CALSCALE:GREGORIAN
BEGIN:VEVENT
UID:820581d2-036a-11f1-996e-0a58a9feac02
DTSTAMP:20260420T205037Z
SUMMARY:3/4 Girls' Basketball Practice
LOCATION:HTRS - Old Gym
URL;VALUE=URI:http://htrstitans.fallhaven.org/high-school/calendar/8850397/
 3-4-girls-basketball-practice
DTSTART:20260312T223000Z
DTEND:20260312T233000Z
END:VEVENT
END:VCALENDAR
