BEGIN:VCALENDAR
VERSION:2.0
PRODID:SchoolNow
CALSCALE:GREGORIAN
BEGIN:VEVENT
UID:82179f16-036a-11f1-b355-0a58a9feac02
DTSTAMP:20260420T205038Z
SUMMARY:Bingo for Books
LOCATION:HTRS - Commons Area
URL;VALUE=URI:http://htrstitans.fallhaven.org/high-school/calendar/8850399/
 bingo-for-books
DTSTART:20260423T204500Z
DTEND:20260423T220000Z
END:VEVENT
END:VCALENDAR
