BEGIN:VCALENDAR
VERSION:2.0
PRODID:SchoolNow
CALSCALE:GREGORIAN
BEGIN:VEVENT
UID:61154356-0601-11f1-9fdc-0ea2127943b9
DTSTAMP:20260420T205037Z
SUMMARY:Bloodmobile
LOCATION:Old Gym
URL;VALUE=URI:http://htrstitans.fallhaven.org/high-school/calendar/8851866/
 bloodmobile
DTSTART;VALUE=DATE:20260402
DTEND;VALUE=DATE:20260403
END:VEVENT
END:VCALENDAR
