BEGIN:VCALENDAR
VERSION:2.0
PRODID:SchoolNow
CALSCALE:GREGORIAN
BEGIN:VEVENT
UID:56cbcf48-069a-11f1-800b-0afffa2b0153
DTSTAMP:20260420T205037Z
SUMMARY:Skills USA State
URL;VALUE=URI:http://htrstitans.fallhaven.org/high-school/calendar/8852129/
 skills-usa-state
DTSTART;VALUE=DATE:20260410
DTEND;VALUE=DATE:20260411
END:VEVENT
END:VCALENDAR
