BEGIN:VCALENDAR
VERSION:2.0
PRODID:SchoolNow
CALSCALE:GREGORIAN
BEGIN:VEVENT
UID:5b42b6bc-06cd-11f1-a30b-0e06e0c1cf85
DTSTAMP:20260420T205037Z
SUMMARY:Post Secondary Prep Day
LOCATION:Humboldt-Table Rock-Steinauer High School
URL;VALUE=URI:http://htrstitans.fallhaven.org/high-school/calendar/8852549/
 post-secondary-prep-day
DTSTART:20260331T140000Z
DTEND:20260331T173000Z
END:VEVENT
END:VCALENDAR
