BEGIN:VCALENDAR
VERSION:2.0
PRODID:SchoolNow
CALSCALE:GREGORIAN
BEGIN:VEVENT
UID:4aa93ea4-0865-11f1-b5d6-0e8ac0029c23
DTSTAMP:20260420T205037Z
SUMMARY:Study Hall-6th Period
URL;VALUE=URI:http://htrstitans.fallhaven.org/high-school/calendar/8854457/
 study-hall-6th-period
DTSTART;VALUE=DATE:20260216
DTEND;VALUE=DATE:20260217
END:VEVENT
END:VCALENDAR
