BEGIN:VCALENDAR
VERSION:2.0
PRODID:SchoolNow
CALSCALE:GREGORIAN
BEGIN:VEVENT
UID:4aba9c8a-0865-11f1-bf90-0e8ac0029c23
DTSTAMP:20260420T205037Z
SUMMARY:Study Hall-4th Period
URL;VALUE=URI:http://htrstitans.fallhaven.org/high-school/calendar/8854459/
 study-hall-4th-period
DTSTART;VALUE=DATE:20260218
DTEND;VALUE=DATE:20260219
END:VEVENT
END:VCALENDAR
