BEGIN:VCALENDAR
VERSION:2.0
PRODID:SchoolNow
CALSCALE:GREGORIAN
BEGIN:VEVENT
UID:4abaa554-0865-11f1-aba4-0e8ac0029c23
DTSTAMP:20260420T205037Z
SUMMARY:Study Hall-1st Period
URL;VALUE=URI:http://htrstitans.fallhaven.org/high-school/calendar/8854462/
 study-hall-1st-period
DTSTART;VALUE=DATE:20260223
DTEND;VALUE=DATE:20260224
END:VEVENT
END:VCALENDAR
