BEGIN:VCALENDAR
VERSION:2.0
PRODID:SchoolNow
CALSCALE:GREGORIAN
BEGIN:VEVENT
UID:4abaade2-0865-11f1-afd6-0e8ac0029c23
DTSTAMP:20260420T205037Z
SUMMARY:Study Hall-3rd Period
URL;VALUE=URI:http://htrstitans.fallhaven.org/high-school/calendar/8854468/
 study-hall-3rd-period
DTSTART;VALUE=DATE:20260304
DTEND;VALUE=DATE:20260305
END:VEVENT
END:VCALENDAR
