BEGIN:VCALENDAR
VERSION:2.0
PRODID:SchoolNow
CALSCALE:GREGORIAN
BEGIN:VEVENT
UID:4abaaef0-0865-11f1-b529-0e8ac0029c23
DTSTAMP:20260420T205037Z
SUMMARY:Study Hall-2nd Period
URL;VALUE=URI:http://htrstitans.fallhaven.org/high-school/calendar/8854469/
 study-hall-2nd-period
DTSTART;VALUE=DATE:20260305
DTEND;VALUE=DATE:20260306
END:VEVENT
END:VCALENDAR
