BEGIN:VCALENDAR
VERSION:2.0
PRODID:SchoolNow
CALSCALE:GREGORIAN
BEGIN:VEVENT
UID:4abab076-0865-11f1-a071-0e8ac0029c23
DTSTAMP:20260420T205037Z
SUMMARY:Study Hall-1st Period
URL;VALUE=URI:http://htrstitans.fallhaven.org/high-school/calendar/8854470/
 study-hall-1st-period
DTSTART;VALUE=DATE:20260306
DTEND;VALUE=DATE:20260307
END:VEVENT
END:VCALENDAR
