BEGIN:VCALENDAR
VERSION:2.0
PRODID:SchoolNow
CALSCALE:GREGORIAN
BEGIN:VEVENT
UID:4abab18e-0865-11f1-87c1-0e8ac0029c23
DTSTAMP:20260420T205037Z
SUMMARY:Study Hall-8th Period
URL;VALUE=URI:http://htrstitans.fallhaven.org/high-school/calendar/8854471/
 study-hall-8th-period
DTSTART;VALUE=DATE:20260309
DTEND;VALUE=DATE:20260310
END:VEVENT
END:VCALENDAR
