BEGIN:VCALENDAR
VERSION:2.0
PRODID:SchoolNow
CALSCALE:GREGORIAN
BEGIN:VEVENT
UID:4abab29c-0865-11f1-a995-0e8ac0029c23
DTSTAMP:20260420T205037Z
SUMMARY:Study Hall-7th Period
URL;VALUE=URI:http://htrstitans.fallhaven.org/high-school/calendar/8854472/
 study-hall-7th-period
DTSTART;VALUE=DATE:20260310
DTEND;VALUE=DATE:20260311
END:VEVENT
END:VCALENDAR
