BEGIN:VCALENDAR
VERSION:2.0
PRODID:SchoolNow
CALSCALE:GREGORIAN
BEGIN:VEVENT
UID:4abab3c8-0865-11f1-bc37-0e8ac0029c23
DTSTAMP:20260420T205037Z
SUMMARY:Study Hall-6th Period
URL;VALUE=URI:http://htrstitans.fallhaven.org/high-school/calendar/8854473/
 study-hall-6th-period
DTSTART;VALUE=DATE:20260311
DTEND;VALUE=DATE:20260312
END:VEVENT
END:VCALENDAR
