BEGIN:VCALENDAR
VERSION:2.0
PRODID:SchoolNow
CALSCALE:GREGORIAN
BEGIN:VEVENT
UID:4abab864-0865-11f1-b24f-0e8ac0029c23
DTSTAMP:20260420T205037Z
SUMMARY:Study Hall-2nd Period
URL;VALUE=URI:http://htrstitans.fallhaven.org/high-school/calendar/8854477/
 study-hall-2nd-period
DTSTART;VALUE=DATE:20260317
DTEND;VALUE=DATE:20260318
END:VEVENT
END:VCALENDAR
