BEGIN:VCALENDAR
VERSION:2.0
PRODID:SchoolNow
CALSCALE:GREGORIAN
BEGIN:VEVENT
UID:455609fc-08fe-11f1-b0d3-0e48dfe29bdf
DTSTAMP:20260420T205038Z
SUMMARY:Soccer:  Girls Varsity Sub-Districts vs TBA  vs.  TBA (Away)
LOCATION:TBA
URL;VALUE=URI:http://htrstitans.fallhaven.org/high-school/calendar/8855104/
 soccer-girls-varsity-sub-districts-vs-tba-vs-tba-away
DTSTART;VALUE=DATE:20260504
DTEND;VALUE=DATE:20260505
END:VEVENT
END:VCALENDAR
