BEGIN:VCALENDAR
VERSION:2.0
PRODID:SchoolNow
CALSCALE:GREGORIAN
BEGIN:VEVENT
UID:33cfdb44-0931-11f1-bab2-0a58a9feac02
DTSTAMP:20260420T205037Z
SUMMARY:FFA Week
LOCATION:HTRS School
URL;VALUE=URI:http://htrstitans.fallhaven.org/high-school/calendar/8855461/
 ffa-week
DTSTART;VALUE=DATE:20260312
DTEND;VALUE=DATE:20260313
END:VEVENT
END:VCALENDAR
