BEGIN:VCALENDAR
VERSION:2.0
PRODID:SchoolNow
CALSCALE:GREGORIAN
BEGIN:VEVENT
UID:17653128-0b95-11f1-a9ab-0a58a9feac02
DTSTAMP:20260420T205038Z
SUMMARY:Driver's Education Class
URL;VALUE=URI:http://htrstitans.fallhaven.org/high-school/calendar/8857255/
 drivers-education-class
DTSTART:20260603T130000Z
DTEND:20260603T180000Z
END:VEVENT
END:VCALENDAR
