BEGIN:VCALENDAR
VERSION:2.0
PRODID:SchoolNow
CALSCALE:GREGORIAN
BEGIN:VEVENT
UID:12a7ad2a-0c2e-11f1-bb33-022b268d487b
DTSTAMP:20260420T205037Z
SUMMARY:3rd. grade-Colonial Acres
LOCATION:Humboldt
URL;VALUE=URI:http://htrstitans.fallhaven.org/high-school/calendar/8857823/
 3rd-grade-colonial-acres
DTSTART:20260325T183000Z
DTEND:20260325T193000Z
END:VEVENT
END:VCALENDAR
