BEGIN:VCALENDAR
VERSION:2.0
PRODID:SchoolNow
CALSCALE:GREGORIAN
BEGIN:VEVENT
UID:e679c73c-0f5d-11f1-8ad3-0a58a9feac02
DTSTAMP:20260420T205038Z
SUMMARY:Community BBQ
LOCATION:Commons Area
URL;VALUE=URI:http://htrstitans.fallhaven.org/high-school/calendar/8864028/
 community-bbq
DTSTART:20260522T220000Z
DTEND:20260523T000000Z
END:VEVENT
END:VCALENDAR
