BEGIN:VCALENDAR
VERSION:2.0
PRODID:SchoolNow
CALSCALE:GREGORIAN
BEGIN:VEVENT
UID:e679e79e-0f5d-11f1-9a66-0a58a9feac02
DTSTAMP:20260420T205038Z
SUMMARY:Open House
LOCATION:HTRS School
URL;VALUE=URI:http://htrstitans.fallhaven.org/high-school/calendar/8864030/
 open-house
DTSTART:20260524T040000Z
DTEND:20260524T190000Z
END:VEVENT
END:VCALENDAR
