BEGIN:VCALENDAR
VERSION:2.0
PRODID:SchoolNow
CALSCALE:GREGORIAN
BEGIN:VEVENT
UID:db70c63e-1029-11f1-bda9-0a58a9feac02
DTSTAMP:20260420T205037Z
SUMMARY:No School
LOCATION:HTRS School
URL;VALUE=URI:http://htrstitans.fallhaven.org/high-school/calendar/8865613/
 no-school
DTSTART;VALUE=DATE:20260227
DTEND;VALUE=DATE:20260228
END:VEVENT
END:VCALENDAR
