BEGIN:VCALENDAR
VERSION:2.0
PRODID:SchoolNow
CALSCALE:GREGORIAN
BEGIN:VEVENT
UID:cc732bf2-118e-11f1-840e-0a58a9feac02
DTSTAMP:20260420T205037Z
SUMMARY:ACT
LOCATION:HTRS School
URL;VALUE=URI:http://htrstitans.fallhaven.org/high-school/calendar/8868772/
 act
DTSTART:20260324T130000Z
DTEND:20260324T170000Z
END:VEVENT
END:VCALENDAR
