BEGIN:VCALENDAR
VERSION:2.0
PRODID:SchoolNow
CALSCALE:GREGORIAN
BEGIN:VEVENT
UID:c8cbd660-11c1-11f1-a154-0a58a9feac02
DTSTAMP:20260420T205037Z
SUMMARY:Brighter Smiles
LOCATION:HTRS School
URL;VALUE=URI:http://htrstitans.fallhaven.org/high-school/calendar/8869276/
 brighter-smiles
DTSTART;VALUE=DATE:20260415
DTEND;VALUE=DATE:20260416
END:VEVENT
END:VCALENDAR
