BEGIN:VCALENDAR
VERSION:2.0
PRODID:SchoolNow
CALSCALE:GREGORIAN
BEGIN:VEVENT
UID:c8cbda16-11c1-11f1-a7df-0a58a9feac02
DTSTAMP:20260420T205037Z
SUMMARY:Brighter Smiles
LOCATION:HTRS School
URL;VALUE=URI:http://htrstitans.fallhaven.org/high-school/calendar/8869277/
 brighter-smiles
DTSTART;VALUE=DATE:20260416
DTEND;VALUE=DATE:20260417
END:VEVENT
END:VCALENDAR
