BEGIN:VCALENDAR
VERSION:2.0
PRODID:SchoolNow
CALSCALE:GREGORIAN
BEGIN:VEVENT
UID:c8dac896-11c1-11f1-b9b5-0a58a9feac02
DTSTAMP:20260420T205038Z
SUMMARY:AR Movie
LOCATION:Auburn
URL;VALUE=URI:http://htrstitans.fallhaven.org/high-school/calendar/8869278/
 ar-movie
DTSTART;VALUE=DATE:20260512
DTEND;VALUE=DATE:20260513
END:VEVENT
END:VCALENDAR
