BEGIN:VCALENDAR
VERSION:2.0
PRODID:SchoolNow
CALSCALE:GREGORIAN
BEGIN:VEVENT
UID:c8daccba-11c1-11f1-a66c-0a58a9feac02
DTSTAMP:20260420T205038Z
SUMMARY:AR Movie
LOCATION:Auburn
URL;VALUE=URI:http://htrstitans.fallhaven.org/high-school/calendar/8869279/
 ar-movie
DTSTART;VALUE=DATE:20260513
DTEND;VALUE=DATE:20260514
END:VEVENT
END:VCALENDAR
