BEGIN:VCALENDAR
VERSION:2.0
PRODID:SchoolNow
CALSCALE:GREGORIAN
BEGIN:VEVENT
UID:bdfe7112-128d-11f1-82f0-0e47ada2222b
DTSTAMP:20260420T205037Z
SUMMARY:AdVenture
LOCATION:Nebraska City
URL;VALUE=URI:http://htrstitans.fallhaven.org/high-school/calendar/8871309/
 adventure
DTSTART:20260311T130000Z
DTEND:20260311T200000Z
END:VEVENT
END:VCALENDAR
