BEGIN:VCALENDAR
VERSION:2.0
PRODID:SchoolNow
CALSCALE:GREGORIAN
BEGIN:VEVENT
UID:be0f93ac-128d-11f1-8c26-0e47ada2222b
DTSTAMP:20260420T205037Z
SUMMARY:Leader's in Ag Day
LOCATION:Mudecas Conf. Speechmeet
URL;VALUE=URI:http://htrstitans.fallhaven.org/high-school/calendar/8871310/
 leaders-in-ag-day
DTSTART;VALUE=DATE:20260422
DTEND;VALUE=DATE:20260423
END:VEVENT
END:VCALENDAR
