BEGIN:VCALENDAR
VERSION:2.0
PRODID:SchoolNow
CALSCALE:GREGORIAN
BEGIN:VEVENT
UID:8e01b902-1656-11f1-9ac8-0a58a9feac02
DTSTAMP:20260420T205037Z
SUMMARY:Pre-ACT
URL;VALUE=URI:http://htrstitans.fallhaven.org/high-school/calendar/8884018/
 pre-act
DTSTART:20260304T140000Z
DTEND:20260304T170000Z
END:VEVENT
END:VCALENDAR
