BEGIN:VCALENDAR
VERSION:2.0
PRODID:SchoolNow
CALSCALE:GREGORIAN
BEGIN:VEVENT
UID:8e01bcf4-1656-11f1-8873-0a58a9feac02
DTSTAMP:20260420T205037Z
SUMMARY:End of 3rd quarter
URL;VALUE=URI:http://htrstitans.fallhaven.org/high-school/calendar/8884019/
 end-of-3rd-quarter
DTSTART;VALUE=DATE:20260306
DTEND;VALUE=DATE:20260307
END:VEVENT
END:VCALENDAR
