BEGIN:VCALENDAR
VERSION:2.0
PRODID:SchoolNow
CALSCALE:GREGORIAN
BEGIN:VEVENT
UID:8e13bc92-1656-11f1-b8d4-0a58a9feac02
DTSTAMP:20260420T205037Z
SUMMARY:Pre-ACT
URL;VALUE=URI:http://htrstitans.fallhaven.org/high-school/calendar/8884021/
 pre-act
DTSTART:20260310T180000Z
DTEND:20260310T193000Z
END:VEVENT
END:VCALENDAR
