BEGIN:VCALENDAR
VERSION:2.0
PRODID:SchoolNow
CALSCALE:GREGORIAN
BEGIN:VEVENT
UID:85f12e2c-1689-11f1-b84d-0a58a9feac02
DTSTAMP:20260420T205037Z
SUMMARY:Spring Photos
LOCATION:HTRS - Main Gym
URL;VALUE=URI:http://htrstitans.fallhaven.org/high-school/calendar/8885120/
 spring-photos
DTSTART:20260317T133000Z
DTEND:20260317T160000Z
END:VEVENT
END:VCALENDAR
