BEGIN:VCALENDAR
VERSION:2.0
PRODID:SchoolNow
CALSCALE:GREGORIAN
BEGIN:VEVENT
UID:86022ccc-1689-11f1-bbde-0a58a9feac02
DTSTAMP:20260420T205038Z
SUMMARY:Golf:  Boys Var District Meet vs Lincoln Christian (Away)
LOCATION:Hidden Valley Golf Course
URL;VALUE=URI:http://htrstitans.fallhaven.org/high-school/calendar/8885122/
 golf-boys-var-district-meet-vs-lincoln-christian-away
DTSTART;VALUE=DATE:20260519
DTEND;VALUE=DATE:20260520
END:VEVENT
END:VCALENDAR
