BEGIN:VCALENDAR
VERSION:2.0
PRODID:SchoolNow
CALSCALE:GREGORIAN
BEGIN:VEVENT
UID:7949372a-1821-11f1-b4ca-02b37a843387
DTSTAMP:20260420T205037Z
SUMMARY:Ag Olympics
URL;VALUE=URI:http://htrstitans.fallhaven.org/high-school/calendar/8891082/
 ag-olympics
DTSTART:20260313T153900Z
DTEND:20260313T162900Z
END:VEVENT
END:VCALENDAR
