BEGIN:VCALENDAR
VERSION:2.0
PRODID:SchoolNow
CALSCALE:GREGORIAN
BEGIN:VEVENT
UID:79493d9c-1821-11f1-90d0-02b37a843387
DTSTAMP:20260420T205037Z
SUMMARY:Study Hall-8th Period
URL;VALUE=URI:http://htrstitans.fallhaven.org/high-school/calendar/8891084/
 study-hall-8th-period
DTSTART;VALUE=DATE:20260324
DTEND;VALUE=DATE:20260325
END:VEVENT
END:VCALENDAR
