BEGIN:VCALENDAR
VERSION:2.0
PRODID:SchoolNow
CALSCALE:GREGORIAN
BEGIN:VEVENT
UID:79493f2c-1821-11f1-abe2-02b37a843387
DTSTAMP:20260420T205037Z
SUMMARY:Study Hall-7th Period
URL;VALUE=URI:http://htrstitans.fallhaven.org/high-school/calendar/8891085/
 study-hall-7th-period
DTSTART;VALUE=DATE:20260325
DTEND;VALUE=DATE:20260326
END:VEVENT
END:VCALENDAR
