BEGIN:VCALENDAR
VERSION:2.0
PRODID:SchoolNow
CALSCALE:GREGORIAN
BEGIN:VEVENT
UID:79494210-1821-11f1-9c71-02b37a843387
DTSTAMP:20260420T205037Z
SUMMARY:Study Hall-5th Period
URL;VALUE=URI:http://htrstitans.fallhaven.org/high-school/calendar/8891087/
 study-hall-5th-period
DTSTART;VALUE=DATE:20260327
DTEND;VALUE=DATE:20260328
END:VEVENT
END:VCALENDAR
