BEGIN:VCALENDAR
VERSION:2.0
PRODID:SchoolNow
CALSCALE:GREGORIAN
BEGIN:VEVENT
UID:7949444a-1821-11f1-82a3-02b37a843387
DTSTAMP:20260420T205037Z
SUMMARY:Study Hall-4th Period
URL;VALUE=URI:http://htrstitans.fallhaven.org/high-school/calendar/8891088/
 study-hall-4th-period
DTSTART;VALUE=DATE:20260330
DTEND;VALUE=DATE:20260331
END:VEVENT
END:VCALENDAR
