BEGIN:VCALENDAR
VERSION:2.0
PRODID:SchoolNow
CALSCALE:GREGORIAN
BEGIN:VEVENT
UID:79494594-1821-11f1-b50a-02b37a843387
DTSTAMP:20260420T205037Z
SUMMARY:Study Hall-3rd Period
URL;VALUE=URI:http://htrstitans.fallhaven.org/high-school/calendar/8891089/
 study-hall-3rd-period
DTSTART;VALUE=DATE:20260331
DTEND;VALUE=DATE:20260401
END:VEVENT
END:VCALENDAR
