BEGIN:VCALENDAR
VERSION:2.0
PRODID:SchoolNow
CALSCALE:GREGORIAN
BEGIN:VEVENT
UID:43cffbde-1bea-11f1-8d4a-0affc59929ff
DTSTAMP:20260420T205037Z
SUMMARY:State FCCLA
LOCATION:Lincoln
URL;VALUE=URI:http://htrstitans.fallhaven.org/high-school/calendar/8904365/
 state-fccla
DTSTART;VALUE=DATE:20260330
DTEND;VALUE=DATE:20260331
END:VEVENT
END:VCALENDAR
