BEGIN:VCALENDAR
VERSION:2.0
PRODID:SchoolNow
CALSCALE:GREGORIAN
BEGIN:VEVENT
UID:3c6a888a-1c50-11f1-96af-0a58a9feac02
DTSTAMP:20260420T205037Z
SUMMARY:Robotics Competition
LOCATION:UNL
URL;VALUE=URI:http://htrstitans.fallhaven.org/high-school/calendar/8905909/
 robotics-competition
DTSTART;VALUE=DATE:20260320
DTEND;VALUE=DATE:20260321
END:VEVENT
END:VCALENDAR
