BEGIN:VCALENDAR
VERSION:2.0
PRODID:SchoolNow
CALSCALE:GREGORIAN
BEGIN:VEVENT
UID:21057aec-1f1a-11f1-87d9-0a58a9feac02
DTSTAMP:20260420T205037Z
SUMMARY:Study Hall-6th Period
URL;VALUE=URI:http://htrstitans.fallhaven.org/high-school/calendar/8915489/
 study-hall-6th-period
DTSTART;VALUE=DATE:20260409
DTEND;VALUE=DATE:20260410
END:VEVENT
END:VCALENDAR
