BEGIN:VCALENDAR
VERSION:2.0
PRODID:SchoolNow
CALSCALE:GREGORIAN
BEGIN:VEVENT
UID:21057c54-1f1a-11f1-af3a-0a58a9feac02
DTSTAMP:20260420T205037Z
SUMMARY:Study Hall-5th Period
URL;VALUE=URI:http://htrstitans.fallhaven.org/high-school/calendar/8915490/
 study-hall-5th-period
DTSTART;VALUE=DATE:20260410
DTEND;VALUE=DATE:20260411
END:VEVENT
END:VCALENDAR
