BEGIN:VCALENDAR
VERSION:2.0
PRODID:SchoolNow
CALSCALE:GREGORIAN
BEGIN:VEVENT
UID:21057e70-1f1a-11f1-915d-0a58a9feac02
DTSTAMP:20260420T205037Z
SUMMARY:Study Hall-3rd Period
URL;VALUE=URI:http://htrstitans.fallhaven.org/high-school/calendar/8915492/
 study-hall-3rd-period
DTSTART;VALUE=DATE:20260414
DTEND;VALUE=DATE:20260415
END:VEVENT
END:VCALENDAR
