BEGIN:VCALENDAR
VERSION:2.0
PRODID:SchoolNow
CALSCALE:GREGORIAN
BEGIN:VEVENT
UID:211ca49c-1f1a-11f1-8669-0a58a9feac02
DTSTAMP:20260420T205037Z
SUMMARY:Study Hall-1st Period
URL;VALUE=URI:http://htrstitans.fallhaven.org/high-school/calendar/8915495/
 study-hall-1st-period
DTSTART;VALUE=DATE:20260416
DTEND;VALUE=DATE:20260417
END:VEVENT
END:VCALENDAR
