BEGIN:VCALENDAR
VERSION:2.0
PRODID:SchoolNow
CALSCALE:GREGORIAN
BEGIN:VEVENT
UID:211caef6-1f1a-11f1-a2e4-0a58a9feac02
DTSTAMP:20260420T205037Z
SUMMARY:Study Hall-8th Period
URL;VALUE=URI:http://htrstitans.fallhaven.org/high-school/calendar/8915496/
 study-hall-8th-period
DTSTART;VALUE=DATE:20260417
DTEND;VALUE=DATE:20260418
END:VEVENT
END:VCALENDAR
