BEGIN:VCALENDAR
VERSION:2.0
PRODID:SchoolNow
CALSCALE:GREGORIAN
BEGIN:VEVENT
UID:211cb55e-1f1a-11f1-a0c3-0a58a9feac02
DTSTAMP:20260420T205038Z
SUMMARY:Study Hall-4th Period
URL;VALUE=URI:http://htrstitans.fallhaven.org/high-school/calendar/8915500/
 study-hall-4th-period
DTSTART;VALUE=DATE:20260423
DTEND;VALUE=DATE:20260424
END:VEVENT
END:VCALENDAR
