BEGIN:VCALENDAR
VERSION:2.0
PRODID:SchoolNow
CALSCALE:GREGORIAN
BEGIN:VEVENT
UID:211cb98c-1f1a-11f1-8a8d-0a58a9feac02
DTSTAMP:20260420T205038Z
SUMMARY:Study Hall-1st Period
URL;VALUE=URI:http://htrstitans.fallhaven.org/high-school/calendar/8915503/
 study-hall-1st-period
DTSTART;VALUE=DATE:20260428
DTEND;VALUE=DATE:20260429
END:VEVENT
END:VCALENDAR
